BEGIN:VCALENDAR
VERSION:2.0
PRODID:-//InvisionCommunity Events 4.7.24//EN
METHOD:PUBLISH
CALSCALE:GREGORIAN
REFRESH-INTERVAL:PT15M
X-PUBLISHED-TTL:PT15M
X-WR-CALNAME:DCMM Club Calendar
NAME:DCMM Club Calendar
BEGIN:VTIMEZONE
TZID:Europe/London
TZURL:http://tzurl.org/zoneinfo/Europe/London
X-LIC-LOCATION:Europe/London
BEGIN:DAYLIGHT
TZOFFSETFROM:+0000
TZOFFSETTO:+0100
TZNAME:BST
DTSTART:20110327T020000Z
RRULE:FREQ=YEARLY;BYMONTH=3;BYDAY=-1SU
END:DAYLIGHT
BEGIN:STANDARD
TZOFFSETFROM:+0100
TZOFFSETTO:+0000
TZNAME:GMT
DTSTART:20111030T020000Z
RRULE:FREQ=YEARLY;BYMONTH=10;BYDAY=-1SU
END:STANDARD
END:VTIMEZONE
BEGIN:VEVENT
SUMMARY:NCC Autocross School - 03/5/2011
DTSTAMP:20110214T165800Z
SEQUENCE:0
UID:140-1-481082abbf5b614c3f843e6f2c1af318@dcmetrominis.org
ORGANIZER;CN="cmcveay":webmaster@dcmetrominis.org
DESCRIPTION:\n \n&lt\;p&gt\;&lt\;strong&gt\;&lt\;span style=\"color:#33
	3333\;\"&gt\;NCC Autocross School - 03/5/2011&lt\;/span&gt\;&lt\;/strong&g
	t\;&lt\;/p&gt\;\n&lt\;p&gt\; &lt\;/p&gt\;\n&lt\;p&gt\;&lt\;span style=\"c
	olor:#333333\;\"&gt\;On Saturday\, March 5th\, 2011\, the NCC Autocross pr
	ogram will be conducting its first autocross school for 2011. This school 
	is designed for novices. NCC members and non-members are invited to attend
	.&lt\;/span&gt\;&lt\;/p&gt\;\n&lt\;p&gt\; &lt\;/p&gt\;\n&lt\;p&gt\;&lt\;s
	pan style=\"color:#333333\;\"&gt\;Autocross is a safe\, low-speed motorspo
	rt where competitors drive against the clock to turn in the best times as 
	they navigate a driving course defined by orange parking cones in a large\
	, open lot. The Autocross School is the best way for new and budding autoc
	ross participants to learn more about autocross and improve their driving 
	performance through a combination of classroom education and in-car instru
	ction by some of the best instructors in the Washington DC area. Come join
	 us at the Bowie Baysox Stadium for a fun and educational day filled with 
	safe but adrenaline raising motorsport.&lt\;/span&gt\;&lt\;/p&gt\;\n&lt\;p
	&gt\; &lt\;/p&gt\;\n&lt\;p&gt\;&lt\;span style=\"color:#333333\;\"&gt\;Cl
	assroom sessions will include a variety of topics to help novice participa
	nts better understand what goes on in a day of autocross\, and what they w
	ill likely be seeing and hearing around them as they participate in the mo
	torsport. Instruction on how to prepare both the car and driver for autocr
	oss\, how to register\, tech inspect\, work a course\, and safety topics w
	ill get you up to speed with the day-of operations for participating in au
	tocross. Then\, drivers will learn how to make the most of their runs by e
	xamining techniques like walking the course to determine good run lines\, 
	throttle modulation (your gas pedal is not an on-off switch!)\, and when t
	o brake. Classroom discussions will also cover basic handling conditions s
	uch as 'oversteer' and 'understeer' you may have heard of\, and how to cor
	rect them\, and try to prevent these issues to give you your best runs.&lt
	\;/span&gt\;&lt\;/p&gt\;\n&lt\;p&gt\; &lt\;/p&gt\;\n&lt\;p&gt\;&lt\;span 
	style=\"color:#333333\;\"&gt\;When not in classroom sessions\, it's time t
	o put all of your newfound knowledge to work. Get ready to buckle up and d
	rive\, as you will get run after run to put your training and skills to th
	e test with a series of handling and stopping challenges as you gear up to
	 run a full autocross course. With one of our excellent instructors at you
	r side\, you will continue to receive guidance to improve your performance
	 and lower your lap times. As you learn how to pick your turn-in points\, 
	choose your braking zones and work the throttle wisely\, you will notice a
	 consistent improvement in how your car handles confidently and smartly th
	rough the sea of cones.&lt\;/span&gt\;&lt\;/p&gt\;\n&lt\;p&gt\; &lt\;/p&g
	t\;\n&lt\;p&gt\;&lt\;span style=\"color:#333333\;\"&gt\;There is no better
	 way to get started in autocross than with the NCC Autocross School. Wheth
	er you've done a few events in the past\, or if you've never been out to a
	 course before\, you'll find the program educational and the skills you le
	arn useful not just on the autocross course\, but for all of the driving y
	ou do. Our staff is ready to answer any questions you will have and will e
	nsure you get personalized attention and instruction to overcome any conce
	rns or issues. We are ready to introduce you to the fast and fun world of 
	autocross\, are you ready to join? Register now as space in our Autocross 
	Schools are limited to the first 20 participants to ensure small class gro
	ups and personalized instruction.&lt\;/span&gt\;&lt\;/p&gt\;\n&lt\;p&gt\;
	 &lt\;/p&gt\;\n&lt\;p&gt\;&lt\;span style=\"color:#333333\;\"&gt\;&lt\;st
	rong&gt\;The Essentials ...&lt\;/strong&gt\;&lt\;/span&gt\;&lt\;/p&gt\;\n&
	lt\;p&gt\; &lt\;/p&gt\;\n&lt\;p&gt\;&lt\;span style=\"color:#333333\;\"&g
	t\;&lt\;em&gt\;Registration&lt\;/em&gt\;&lt\;/span&gt\;&lt\;/p&gt\;\n&lt\;
	p&gt\; &lt\;/p&gt\;\n&lt\;p&gt\;&lt\;span style=\"color:#333333\;\"&gt\;P
	lease register using Motorsport Reg here: &lt\;/span&gt\;&lt\;a href=\"htt
	p://www.motorsportreg.com/index.cfm/event/event.advert/uidEvent/1BD3C0A6-0
	AF9-B3B2-4683D8E335932C66\" rel=\"external nofollow\"&gt\;&lt\;span style=
	\"color:#0000ff\;\"&gt\;http://www.motorsportreg.com/index.cfm/event/event
	.advert/uidEvent/1BD3C0A6-0AF9-B3B2-4683D8E335932C66&lt\;/span&gt\;&lt\;/a
	&gt\;&lt\;/p&gt\;\n&lt\;p&gt\; &lt\;/p&gt\;\n&lt\;p&gt\;&lt\;span style=\
	"color:#333333\;\"&gt\;Registration will open &lt\;/span&gt\;&lt\;span sty
	le=\"color:#000000\;\"&gt\;Mon Feb 14\, 2011 8:00AM &lt\;/span&gt\;&lt\;sp
	an style=\"color:#333333\;\"&gt\;EST.&lt\;/span&gt\;&lt\;/p&gt\;\n&lt\;p&g
	t\; &lt\;/p&gt\;\n&lt\;p&gt\;&lt\;span style=\"color:#333333\;\"&gt\;Atte
	ndance at the school is via online registration ONLY. No Exceptions! Prepa
	yment of admission is required.&lt\;/span&gt\;&lt\;/p&gt\;\n&lt\;p&gt\; &
	lt\;/p&gt\;\n&lt\;p&gt\;&lt\;span style=\"color:#333333\;\"&gt\;Registrati
	ons are non-refundable and non-transferable. &lt\;/span&gt\;&lt\;/p&gt\;\n
	&lt\;p&gt\; &lt\;/p&gt\;\n&lt\;p&gt\;&lt\;span style=\"color:#333333\;\"&
	gt\;&lt\;em&gt\;Date:&lt\;/em&gt\;&lt\;/span&gt\;&lt\;span style=\"color:#
	333333\;\"&gt\;Saturday\, March 5th\, 2011&lt\;/span&gt\;&lt\;/p&gt\;\n&lt
	\;p&gt\; &lt\;/p&gt\;\n&lt\;p&gt\;&lt\;span style=\"color:#333333\;\"&gt\
	;&lt\;em&gt\;Location:&lt\;/em&gt\;&lt\;/span&gt\;&lt\;/p&gt\;\n&lt\;p&gt\
	;&lt\;span style=\"color:#333333\;\"&gt\;Bowie Baysox Stadium&lt\;/span&gt
	\;&lt\;/p&gt\;\n&lt\;p&gt\;&lt\;span style=\"color:#333333\;\"&gt\;4101 Cr
	ain Highway&lt\;/span&gt\;&lt\;/p&gt\;\n&lt\;p&gt\;&lt\;span style=\"color
	:#333333\;\"&gt\;Bowie\, MD\, 20716&lt\;/span&gt\;&lt\;/p&gt\;\n&lt\;p&gt\
	; &lt\;/p&gt\;\n&lt\;p&gt\;&lt\;span style=\"color:#333333\;\"&gt\;&lt\;e
	m&gt\;Cost: &lt\;/em&gt\;&lt\;/span&gt\;&lt\;span style=\"color:#333333\;\
	"&gt\;$60.00 &lt\;/span&gt\;&lt\;/p&gt\;\n&lt\;p&gt\; &lt\;/p&gt\;\n&lt\;
	p&gt\;&lt\;strong&gt\;&lt\;em&gt\;&lt\;span style=\"text-decoration:underl
	ine\;\"&gt\;Class Curriculum&lt\;/span&gt\;&lt\;/em&gt\;&lt\;/strong&gt\;&
	lt\;/p&gt\;\n&lt\;p&gt\; &lt\;/p&gt\;\n&lt\;p&gt\;&lt\;strong&gt\;&lt\;sp
	an style=\"color:#333333\;\"&gt\;08:00 AM – Students Arrive&lt\;/span&gt
	\;&lt\;/strong&gt\;&lt\;/p&gt\;\n&lt\;p&gt\; &lt\;/p&gt\;\n&lt\;p&gt\; &
	lt\;/p&gt\;\n&lt\;p&gt\;&lt\;strong&gt\;&lt\;span style=\"color:#333333\;\
	"&gt\;08:15 AM- Welcome to Autocross&lt\;/span&gt\;&lt\;/strong&gt\;&lt\;/
	p&gt\;\n&lt\;p&gt\;&lt\;/p&gt\;\n&lt\;ul&gt\;&lt\;li&gt\;Student &lt\;span
	 style=\"color:#000000\;\"&gt\;check-in&lt\;/span&gt\;&lt\;br /&gt\;&lt\;/
	li&gt\;\n&lt\;li&gt\;\n&lt\;span style=\"color:#000000\;\"&gt\;All student
	s must sign insurance waiver.&lt\;/span&gt\;&lt\;br /&gt\;&lt\;/li&gt\;\n&
	lt\;li&gt\;\n&lt\;span style=\"color:#000000\;\"&gt\;What should I expect 
	from today?&lt\;/span&gt\;&lt\;br /&gt\;&lt\;/li&gt\;\n&lt\;li&gt\;\n&lt\;
	span style=\"color:#000000\;\"&gt\;How will this make me a better driver?&
	lt\;/span&gt\;&lt\;br /&gt\;&lt\;/li&gt\;\n&lt\;/ul&gt\;&lt\;p&gt\;&lt\;/p
	&gt\;\n&lt\;p&gt\; &lt\;/p&gt\;\n&lt\;p&gt\;&lt\;strong&gt\;&lt\;span sty
	le=\"color:#000000\;\"&gt\;08:30 AM - Tech Inspection Overview&lt\;/span&g
	t\;&lt\;/strong&gt\;&lt\;/p&gt\;\n&lt\;p&gt\;&lt\;/p&gt\;\n&lt\;ul&gt\;&lt
	\;li&gt\;\n&lt\;span style=\"color:#000000\;\"&gt\;What is tech inspection
	?&lt\;/span&gt\;&lt\;br /&gt\;&lt\;/li&gt\;&lt\;/ul&gt\;&lt\;p&gt\;&lt\;/p
	&gt\;\n&lt\;p&gt\; &lt\;/p&gt\;\n&lt\;p&gt\;&lt\;/p&gt\;\n&lt\;ul&gt\;&lt
	\;li&gt\;\n&lt\;span style=\"color:#000000\;\"&gt\;How do you perform a te
	ch inspection?&lt\;/span&gt\;&lt\;br /&gt\;&lt\;/li&gt\;\n&lt\;li&gt\;\n&l
	t\;span style=\"color:#000000\;\"&gt\;Students tech inspect another classm
	ates vehicle.&lt\;/span&gt\;&lt\;br /&gt\;&lt\;/li&gt\;\n&lt\;/ul&gt\;&lt\
	;p&gt\;&lt\;/p&gt\;\n&lt\;p&gt\; &lt\;/p&gt\;\n&lt\;p&gt\;&lt\;strong&gt\
	;&lt\;span style=\"color:#000000\;\"&gt\;09:00 AM - Working The Course Ove
	rview&lt\;/span&gt\;&lt\;/strong&gt\;&lt\;/p&gt\;\n&lt\;p&gt\;&lt\;/p&gt\;
	\n&lt\;ul&gt\;&lt\;li&gt\;\n&lt\;span style=\"color:#000000\;\"&gt\;What i
	s working the course?&lt\;/span&gt\;&lt\;br /&gt\;&lt\;/li&gt\;\n&lt\;li&g
	t\;\n&lt\;span style=\"color:#000000\;\"&gt\;Why is working the course imp
	ortant?&lt\;/span&gt\;&lt\;br /&gt\;&lt\;/li&gt\;\n&lt\;li&gt\;\n&lt\;span
	 style=\"color:#000000\;\"&gt\;What are the different worker positions?&lt
	\;/span&gt\;&lt\;br /&gt\;&lt\;/li&gt\;\n&lt\;li&gt\;\n&lt\;span style=\"c
	olor:#000000\;\"&gt\;What are cone penalties and how are the assessed?&lt\
	;/span&gt\;&lt\;br /&gt\;&lt\;/li&gt\;\n&lt\;li&gt\;\n&lt\;span style=\"co
	lor:#000000\;\"&gt\;What should I do in case of an on course emergency?&lt
	\;/span&gt\;&lt\;br /&gt\;&lt\;/li&gt\;\n&lt\;/ul&gt\;&lt\;p&gt\;&lt\;/p&g
	t\;\n&lt\;p&gt\;&lt\;strong&gt\;&lt\;span style=\"color:#000000\;\"&gt\;09
	:15 AM - First Concepts Classroom Session&lt\;/span&gt\;&lt\;/strong&gt\;&
	lt\;/p&gt\;\n&lt\;p&gt\; &lt\;/p&gt\;\n&lt\;p&gt\; &lt\;/p&gt\;\n&lt\;p&
	gt\;&lt\;strong&gt\;&lt\;span style=\"color:#000000\;\"&gt\;10:00 AM – M
	orning Driving Exercises &lt\;/span&gt\;&lt\;/strong&gt\;&lt\;/p&gt\;\n&lt
	\;p&gt\;&lt\;/p&gt\;\n&lt\;ul&gt\;&lt\;li&gt\;Three 40 minute driving sess
	ions with personal instruction on three different short courses&lt\;br /&g
	t\;&lt\;/li&gt\;&lt\;/ul&gt\;&lt\;p&gt\;&lt\;/p&gt\;\n&lt\;p&gt\; &lt\;/p
	&gt\;\n&lt\;p&gt\;&lt\;strong&gt\;&lt\;span style=\"color:#000000\;\"&gt\;
	12:00 PM - Lunch Time&lt\;/span&gt\;&lt\;/strong&gt\;&lt\;/p&gt\;\n&lt\;p&
	gt\;&lt\;/p&gt\;\n&lt\;ul&gt\;&lt\;li&gt\;\n&lt\;span style=\"color:#00000
	0\;\"&gt\;Lunch provided for all attendees.&lt\;/span&gt\;&lt\;br /&gt\;&l
	t\;/li&gt\;&lt\;/ul&gt\;&lt\;p&gt\;&lt\;/p&gt\;\n&lt\;p&gt\;&lt\;strong&gt
	\;&lt\;span style=\"color:#000000\;\"&gt\;12:30 PM - Advanced Classroom Se
	ssion&lt\;/span&gt\;&lt\;/strong&gt\;&lt\;/p&gt\;\n&lt\;p&gt\; &lt\;/p&gt
	\;\n&lt\;p&gt\; &lt\;/p&gt\;\n&lt\;p&gt\;&lt\;strong&gt\;&lt\;span style=
	\"color:#000000\;\"&gt\;01:15 PM - Guided Coursewalk&lt\;/span&gt\;&lt\;/s
	trong&gt\;&lt\;/p&gt\;\n&lt\;p&gt\;&lt\;/p&gt\;\n&lt\;ul&gt\;&lt\;li&gt\;\
	n&lt\;span style=\"color:#000000\;\"&gt\;How do I walk a course?&lt\;/span
	&gt\;&lt\;br /&gt\;&lt\;/li&gt\;\n&lt\;li&gt\;\n&lt\;span style=\"color:#0
	00000\;\"&gt\;Why is walking the course necessary?&lt\;/span&gt\;&lt\;br /
	&gt\;&lt\;/li&gt\;\n&lt\;li&gt\;\n&lt\;span style=\"color:#000000\;\"&gt\;
	How do you remember all of this?&lt\;/span&gt\;&lt\;br /&gt\;&lt\;/li&gt\;
	\n&lt\;/ul&gt\;&lt\;p&gt\;&lt\;/p&gt\;\n&lt\;p&gt\;&lt\;strong&gt\;&lt\;sp
	an style=\"color:#000000\;\"&gt\;01:45 PM – Afternoon Driving Exercises&
	lt\;/span&gt\;&lt\;/strong&gt\;&lt\;/p&gt\;\n&lt\;p&gt\;&lt\;span style=\"
	color:#000000\;\"&gt\;&lt\;strong&gt\;· &lt\;/strong&gt\;&lt\;/span&gt\;&
	lt\;span style=\"color:#333333\;\"&gt\;Driving sessions with personal inst
	ruction on the full course. Target of 5 runs each.&lt\;/span&gt\;&lt\;/p&g
	t\;\n&lt\;p&gt\; &lt\;/p&gt\;\n&lt\;p&gt\;&lt\;strong&gt\;&lt\;span style
	=\"color:#000000\;\"&gt\;04:00 PM – Course Completion/Lot Cleanup&lt\;/s
	pan&gt\;&lt\;/strong&gt\;&lt\;/p&gt\;\n&lt\;p&gt\;&lt\;span style=\"color:
	#000000\;\"&gt\;&lt\;strong&gt\;· &lt\;/strong&gt\;&lt\;/span&gt\;&lt\;sp
	an style=\"color:#000000\;\"&gt\;Students to assist with packing up all au
	tocross equipment.&lt\;/span&gt\;&lt\;/p&gt\;\n \n
DTSTART:20110305T000000Z
END:VEVENT
END:VCALENDAR
