BEGIN:VCALENDAR
VERSION:2.0
PRODID:-//InvisionCommunity Events 4.7.24//EN
METHOD:PUBLISH
CALSCALE:GREGORIAN
REFRESH-INTERVAL:PT15M
X-PUBLISHED-TTL:PT15M
X-WR-CALNAME:DCMM Club Calendar
NAME:DCMM Club Calendar
BEGIN:VTIMEZONE
TZID:Europe/London
TZURL:http://tzurl.org/zoneinfo/Europe/London
X-LIC-LOCATION:Europe/London
BEGIN:DAYLIGHT
TZOFFSETFROM:+0000
TZOFFSETTO:+0100
TZNAME:BST
DTSTART:20110327T020000Z
RRULE:FREQ=YEARLY;BYMONTH=3;BYDAY=-1SU
END:DAYLIGHT
BEGIN:STANDARD
TZOFFSETFROM:+0100
TZOFFSETTO:+0000
TZNAME:GMT
DTSTART:20111030T020000Z
RRULE:FREQ=YEARLY;BYMONTH=10;BYDAY=-1SU
END:STANDARD
END:VTIMEZONE
BEGIN:VEVENT
SUMMARY:Dinner & A Carwash!
DTSTAMP:20110212T185754Z
SEQUENCE:0
UID:139-1-481082abbf5b614c3f843e6f2c1af318@dcmetrominis.org
ORGANIZER;CN="cmcveay":webmaster@dcmetrominis.org
DESCRIPTION:\n \n&lt\;p&gt\;Let's get together for dinner and fun with 
	an opportunity to wash our cars afterward!&lt\;/p&gt\;\n&lt\;p&gt\; &lt\;
	/p&gt\;\n&lt\;p&gt\;5:00 p.m.\, Saturday\, February 26th&lt\;/p&gt\;\n&lt\
	;p&gt\;UNO Chicago Grill&lt\;/p&gt\;\n&lt\;p&gt\;3058 Gatehouse Plaza&lt\;
	/p&gt\;\n&lt\;p&gt\;Falls Church VA.\, 22042&lt\;/p&gt\;\n&lt\;p&gt\; &lt
	\;/p&gt\;\n&lt\;p&gt\;The car wash is a touch less wash that does a respec
	table job. Washes range from $7.00 to $10.00.  I'll bring a bunch of micro
	 fiber towels and glass cleaner to share.&lt\;/p&gt\;\n \n
DTSTART:20110226T000000Z
END:VEVENT
END:VCALENDAR
