BEGIN:VCALENDAR
VERSION:2.0
PRODID:-//InvisionCommunity Events 4.7.24//EN
METHOD:PUBLISH
CALSCALE:GREGORIAN
REFRESH-INTERVAL:PT15M
X-PUBLISHED-TTL:PT15M
X-WR-CALNAME:DCMM Club Calendar
NAME:DCMM Club Calendar
BEGIN:VTIMEZONE
TZID:Europe/London
TZURL:http://tzurl.org/zoneinfo/Europe/London
X-LIC-LOCATION:Europe/London
BEGIN:DAYLIGHT
TZOFFSETFROM:+0000
TZOFFSETTO:+0100
TZNAME:BST
DTSTART:20110327T020000Z
RRULE:FREQ=YEARLY;BYMONTH=3;BYDAY=-1SU
END:DAYLIGHT
BEGIN:STANDARD
TZOFFSETFROM:+0100
TZOFFSETTO:+0000
TZNAME:GMT
DTSTART:20111030T020000Z
RRULE:FREQ=YEARLY;BYMONTH=10;BYDAY=-1SU
END:STANDARD
END:VTIMEZONE
BEGIN:VEVENT
SUMMARY:Monthly Meet and Greet - MoB - Date correction!
DTSTAMP:20110205T215119Z
SEQUENCE:0
UID:128-1-481082abbf5b614c3f843e6f2c1af318@dcmetrominis.org
ORGANIZER;CN="cmcveay":webmaster@dcmetrominis.org
DESCRIPTION:\n \n&lt\;p&gt\;Hey\, I messed up when I added this event t
	o the calendar.  The M&amp\;G is NEXT Saturday!&lt\;/p&gt\;\n&lt\;p&gt\; 
	&lt\;/p&gt\;\n&lt\;p&gt\;It's \"Meet &amp\; Greet\" time! This month\, it 
	will be held at MINI of Baltimore from 9:30am to noon.&lt\;/p&gt\;\n&lt\;p
	&gt\; &lt\;/p&gt\;\n&lt\;p&gt\;The address is: 9804 Reisterstown Rd\, Owi
	ngs Mills MD 21117&lt\;/p&gt\;\n&lt\;p&gt\; &lt\;/p&gt\;\n&lt\;p&gt\;Plea
	se come join us for a casual get together with new and old members. &lt\;/
	p&gt\;\n&lt\;p&gt\; &lt\;/p&gt\;\n&lt\;p&gt\;Non-members and soon-to-be m
	embers are welcome as well.&lt\;/p&gt\;\n \n
DTSTART:20110219T000000Z
END:VEVENT
END:VCALENDAR
