BEGIN:VCALENDAR
VERSION:2.0
PRODID:-//InvisionCommunity Events 4.7.24//EN
METHOD:PUBLISH
CALSCALE:GREGORIAN
REFRESH-INTERVAL:PT15M
X-PUBLISHED-TTL:PT15M
X-WR-CALNAME:DCMM Club Calendar
NAME:DCMM Club Calendar
BEGIN:VTIMEZONE
TZID:Europe/London
TZURL:http://tzurl.org/zoneinfo/Europe/London
X-LIC-LOCATION:Europe/London
BEGIN:DAYLIGHT
TZOFFSETFROM:+0000
TZOFFSETTO:+0100
TZNAME:BST
DTSTART:20110327T020000Z
RRULE:FREQ=YEARLY;BYMONTH=3;BYDAY=-1SU
END:DAYLIGHT
BEGIN:STANDARD
TZOFFSETFROM:+0100
TZOFFSETTO:+0000
TZNAME:GMT
DTSTART:20111030T020000Z
RRULE:FREQ=YEARLY;BYMONTH=10;BYDAY=-1SU
END:STANDARD
END:VTIMEZONE
BEGIN:VEVENT
SUMMARY:Passport MINI of Alexandria Test Drive and Tailgate Event
DTSTAMP:20110113T164928Z
SEQUENCE:0
UID:124-1-481082abbf5b614c3f843e6f2c1af318@dcmetrominis.org
ORGANIZER;CN="cmcveay":webmaster@dcmetrominis.org
DESCRIPTION:\n \n&lt\;p&gt\;&lt\;a href=\"http://files.me.com/cmcveay1/
	7n64wb\" rel=\"external nofollow\"&gt\;Passport MINI of Alexandria's Test 
	Drive and Tailgate event!&lt\;/a&gt\;&lt\;/p&gt\;\n&lt\;p&gt\; &lt\;/p&gt
	\;\n&lt\;p&gt\;Click the link above to download the flyer.&lt\;/p&gt\;\n 
	\n
DTSTART:20110115T000000Z
END:VEVENT
END:VCALENDAR
