BEGIN:VCALENDAR
VERSION:2.0
PRODID:-//InvisionCommunity Events 4.7.24//EN
METHOD:PUBLISH
CALSCALE:GREGORIAN
REFRESH-INTERVAL:PT15M
X-PUBLISHED-TTL:PT15M
X-WR-CALNAME:DCMM Club Calendar
NAME:DCMM Club Calendar
BEGIN:VTIMEZONE
TZID:Europe/London
TZURL:http://tzurl.org/zoneinfo/Europe/London
X-LIC-LOCATION:Europe/London
BEGIN:DAYLIGHT
TZOFFSETFROM:+0000
TZOFFSETTO:+0100
TZNAME:BST
DTSTART:20100328T020000Z
RRULE:FREQ=YEARLY;BYMONTH=3;BYDAY=-1SU
END:DAYLIGHT
BEGIN:STANDARD
TZOFFSETFROM:+0100
TZOFFSETTO:+0000
TZNAME:GMT
DTSTART:20101031T020000Z
RRULE:FREQ=YEARLY;BYMONTH=10;BYDAY=-1SU
END:STANDARD
END:VTIMEZONE
BEGIN:VEVENT
SUMMARY:Late Night Car Wash Meet
DTSTAMP:20101228T223403Z
SEQUENCE:0
UID:121-1-481082abbf5b614c3f843e6f2c1af318@dcmetrominis.org
ORGANIZER;CN="GreenCactus":webmaster@dcmetrominis.org
DESCRIPTION:\n \n&lt\;p&gt\;Since the weather has been so yucky\, most 
	of our MINIs are pretty nasty. It's still a little to cold to wash them at
	 home\, so how about a car wash meetup?&lt\;/p&gt\;\n&lt\;p&gt\; &lt\;/p&
	gt\;\n&lt\;p&gt\;When: Tonight (Tuesday 12/28/10)\, 11:00pm&lt\;/p&gt\;\n&
	lt\;p&gt\; &lt\;/p&gt\;\n&lt\;p&gt\;Where: Sunoco Station (the gas statio
	n is closed\, but the car wash is open).&lt\;/p&gt\;\n&lt\;p&gt\;&lt\;/p&g
	t\;&lt\;div style=\"margin-left:25px\;\"&gt\;   3070 Gate House Plaza\, Fa
	lls Church\, VA&lt\;/div&gt\;\n&lt\;p&gt\;&lt\;/p&gt\;&lt\;div style=\"mar
	gin-left:25px\;\"&gt\;(next to Sweetwater Tavern in Merrifield\, right off
	 Gallows Rd)&lt\;/div&gt\;\n&lt\;p&gt\;It is a touchless wash\, but it sti
	ll probably isn't a good idea for Cabrios. &lt\;/p&gt\;\n&lt\;p&gt\;Cost i
	s $7\, $8\, $9\, or $10\, depending on options. The machine takes cash and
	 credit cards. &lt\;/p&gt\;\n&lt\;p&gt\; &lt\;/p&gt\;\n&lt\;p&gt\;Bring y
	our 2-way radios so we can keep each other entertained while waiting in li
	ne.&lt\;/p&gt\;\n&lt\;p&gt\; &lt\;/p&gt\;\n&lt\;p&gt\;Why so late?  11pm?
	  Because this car wash is very popular\, especially due to the salt after
	 snow\, and long lines can develop.  We can create our own line without wa
	iting on everyone else! &lt\;/p&gt\;\n \n
DTSTART:20101229T040000Z
DTEND:20101229T043000Z
END:VEVENT
END:VCALENDAR
